BEGIN:VCALENDAR
VERSION:2.0
PRODID:-//PSICOSOLUCIONES SISTÉMICAS - ECPv4.5.2.1//NONSGML v1.0//EN
CALSCALE:GREGORIAN
METHOD:PUBLISH
X-WR-CALNAME:PSICOSOLUCIONES SISTÉMICAS
X-ORIGINAL-URL:http://www.psicosolucionesistemicas.es
X-WR-CALDESC:Events for PSICOSOLUCIONES SISTÉMICAS
BEGIN:VEVENT
DTSTART;TZID=UTC+1:20190413T110000
DTEND;TZID=UTC+1:20190413T130000
DTSTAMP:20260421T090249
CREATED:20190327T114141Z
LAST-MODIFIED:20190327T114141Z
UID:2546-1555153200-1555160400@www.psicosolucionesistemicas.es
SUMMARY:Taller de Terapia con Música y Neuromotricidad
DESCRIPTION:Más información sobre el Taller
URL:http://www.psicosolucionesistemicas.es/event/taller-terapia-musica-neuromotricidad/
LOCATION:8 de Març\, 8\, Alaqùas\, Valencia\, 46970\, España
CATEGORIES:TALLER TERAPIA CON MÚSICA
ATTACH;FMTTYPE=image/png:http://www.psicosolucionesistemicas.es/wp-content/uploads/2019/03/imagen-con-texto.png
ORGANIZER;CN="Psicosoluciones%20Sist%C3%A9micas%20Coop.V.P.":MAILTO:info@psicosolucionesistemicas.es
END:VEVENT
END:VCALENDAR