BEGIN:VCALENDAR
VERSION:2.0
PRODID:-//PSICOSOLUCIONES SISTÉMICAS - ECPv4.5.2.1//NONSGML v1.0//EN
CALSCALE:GREGORIAN
METHOD:PUBLISH
X-WR-CALNAME:PSICOSOLUCIONES SISTÉMICAS
X-ORIGINAL-URL:http://www.psicosolucionesistemicas.es
X-WR-CALDESC:Events for PSICOSOLUCIONES SISTÉMICAS
BEGIN:VEVENT
DTSTART;TZID=UTC+1:20190216T093000
DTEND;TZID=UTC+1:20190216T143000
DTSTAMP:20260421T112938
CREATED:20190116T181418Z
LAST-MODIFIED:20190116T190958Z
UID:2254-1550309400-1550327400@www.psicosolucionesistemicas.es
SUMMARY:TALLER ESPIRITUALIDAD Y PSICOTERAPIA
DESCRIPTION:\n\nINSCRIPCIÓN : https://goo.gl/forms/IogJjwoE8bxVWs7E3
URL:http://www.psicosolucionesistemicas.es/event/taller-espiritualidad-psicoterapia/
LOCATION:8 de Març\, 8\, Alaqùas\, Valencia\, 46970\, España
ORGANIZER;CN="Psicosoluciones%20Sist%C3%A9micas%20Coop.V.P.":MAILTO:info@psicosolucionesistemicas.es
END:VEVENT
END:VCALENDAR