BEGIN:VCALENDAR
VERSION:2.0
PRODID:-//PSICOSOLUCIONES SISTÉMICAS - ECPv4.5.2.1//NONSGML v1.0//EN
CALSCALE:GREGORIAN
METHOD:PUBLISH
X-WR-CALNAME:PSICOSOLUCIONES SISTÉMICAS
X-ORIGINAL-URL:http://www.psicosolucionesistemicas.es
X-WR-CALDESC:Events for PSICOSOLUCIONES SISTÉMICAS
BEGIN:VEVENT
DTSTART;TZID=UTC+1:20190327T160000
DTEND;TZID=UTC+1:20190327T200000
DTSTAMP:20260421T090052
CREATED:20190318T072707Z
LAST-MODIFIED:20190318T072707Z
UID:2513-1553702400-1553716800@www.psicosolucionesistemicas.es
SUMMARY:RESOLUCIÓN DE CASOS PRÁCTICOS EN TRABAJO SOCIAL. Inicio 27 marzo 2019
DESCRIPTION:Más información sobre Taller Resolución Casos Prácticos\n\n
URL:http://www.psicosolucionesistemicas.es/event/resolucion-casos-practicos-trabajo-social-inicio-27-marzo-2019/
LOCATION:Avda Constitución 7 pta 1\, Valencia\, Valencia\, 46009\, España
CATEGORIES:Resolución Casos Prácticos en Trabajo Social
ORGANIZER;CN="Psicosoluciones%20Sist%C3%A9micas%20Coop.V.P.":MAILTO:info@psicosolucionesistemicas.es
END:VEVENT
END:VCALENDAR