BEGIN:VCALENDAR
VERSION:2.0
PRODID:-//PSICOSOLUCIONES SISTÉMICAS - ECPv4.5.2.1//NONSGML v1.0//EN
CALSCALE:GREGORIAN
METHOD:PUBLISH
X-WR-CALNAME:PSICOSOLUCIONES SISTÉMICAS
X-ORIGINAL-URL:http://www.psicosolucionesistemicas.es
X-WR-CALDESC:Events for PSICOSOLUCIONES SISTÉMICAS
BEGIN:VEVENT
DTSTART;VALUE=DATE:20210611
DTEND;VALUE=DATE:20210612
DTSTAMP:20260416T022929
CREATED:20200924T175238Z
LAST-MODIFIED:20210323T145031Z
UID:3065-1623369600-1623542399@www.psicosolucionesistemicas.es
SUMMARY:9O. Las Leyes Herméticas. El Silencio y la Meditación en la Cotidianidad
DESCRIPTION:\n\n\n\nInscripción al Taller\n\nImpartido por Sergio Marina\n\nFecha: 11 junio 2021 16:30 a 21:30h\n\n12 junio9:30 a 14:30h
URL:http://www.psicosolucionesistemicas.es/event/9o-viviendo-la-vida-ecologica-estilo-vida-la-construccion-los-habitos-diarios/
LOCATION:Carrer Castella\, 33 bajo\, Alaquàs\, Valencia\, 46970\, España
CATEGORIES:MASTER DESARROLLO
ATTACH;FMTTYPE=image/png:http://www.psicosolucionesistemicas.es/wp-content/uploads/2020/09/imagen-con-titulo-y-logo.png
ORGANIZER;CN="Psicosoluciones%20Sist%C3%A9micas%20Coop.V.P.":MAILTO:info@psicosolucionesistemicas.es
END:VEVENT
END:VCALENDAR