BEGIN:VCALENDAR
VERSION:2.0
PRODID:-//PSICOSOLUCIONES SISTÉMICAS - ECPv4.5.2.1//NONSGML v1.0//EN
CALSCALE:GREGORIAN
METHOD:PUBLISH
X-WR-CALNAME:PSICOSOLUCIONES SISTÉMICAS
X-ORIGINAL-URL:http://www.psicosolucionesistemicas.es
X-WR-CALDESC:Events for PSICOSOLUCIONES SISTÉMICAS
BEGIN:VEVENT
DTSTART;VALUE=DATE:20210522
DTEND;VALUE=DATE:20210522
DTSTAMP:20260419T054548
CREATED:20200924T175107Z
LAST-MODIFIED:20210512T161129Z
UID:3063-1621641600-1621727999@www.psicosolucionesistemicas.es
SUMMARY:8O. Taller teórico-práctico Respiración y Relajación.
DESCRIPTION:               Inscripción al Taller\n\n\nImpartido por Mar Estada Díez\n\nFecha: 22 mayo 2021 10 a 14h y 16 a 20h\n\n 
URL:http://www.psicosolucionesistemicas.es/event/8o-saber-alimentarse-saber-cocinar-consumo-alimentacion-consciente-consumo-ecologico-reaprender-comprar-reaprender-consumir/
LOCATION:Carrer Castella\, 33 bajo\, Alaquàs\, Valencia\, 46970\, España
CATEGORIES:MASTER DESARROLLO
ATTACH;FMTTYPE=image/png:http://www.psicosolucionesistemicas.es/wp-content/uploads/2021/04/TALLER-RELAJACION.png
ORGANIZER;CN="Psicosoluciones%20Sist%C3%A9micas%20Coop.V.P.":MAILTO:info@psicosolucionesistemicas.es
END:VEVENT
END:VCALENDAR